BEGIN:VCALENDAR
VERSION:2.0
PRODID:-//Chatka Tańca - ECPv6.15.18//NONSGML v1.0//EN
CALSCALE:GREGORIAN
METHOD:PUBLISH
X-WR-CALNAME:Chatka Tańca
X-ORIGINAL-URL:https://chatkatanca.pl
X-WR-CALDESC:Wydarzenia dla Chatka Tańca
REFRESH-INTERVAL;VALUE=DURATION:PT1H
X-Robots-Tag:noindex
X-PUBLISHED-TTL:PT1H
BEGIN:VTIMEZONE
TZID:Europe/Warsaw
BEGIN:DAYLIGHT
TZOFFSETFROM:+0100
TZOFFSETTO:+0200
TZNAME:CEST
DTSTART:20170326T010000
END:DAYLIGHT
BEGIN:STANDARD
TZOFFSETFROM:+0200
TZOFFSETTO:+0100
TZNAME:CET
DTSTART:20171029T010000
END:STANDARD
BEGIN:DAYLIGHT
TZOFFSETFROM:+0100
TZOFFSETTO:+0200
TZNAME:CEST
DTSTART:20180325T010000
END:DAYLIGHT
BEGIN:STANDARD
TZOFFSETFROM:+0200
TZOFFSETTO:+0100
TZNAME:CET
DTSTART:20181028T010000
END:STANDARD
BEGIN:DAYLIGHT
TZOFFSETFROM:+0100
TZOFFSETTO:+0200
TZNAME:CEST
DTSTART:20190331T010000
END:DAYLIGHT
BEGIN:STANDARD
TZOFFSETFROM:+0200
TZOFFSETTO:+0100
TZNAME:CET
DTSTART:20191027T010000
END:STANDARD
END:VTIMEZONE
BEGIN:VEVENT
DTSTART;TZID=Europe/Warsaw:20180914T210000
DTEND;TZID=Europe/Warsaw:20180914T230000
DTSTAMP:20260421T132950
CREATED:20180903T135906Z
LAST-MODIFIED:20180903T192110Z
UID:385-1536958800-1536966000@chatkatanca.pl
SUMMARY:Baśniowy Wrocław. Ballady i legendy dawnych wieków
DESCRIPTION:Zapraszamy koncert promujący książkę Baśniowy Wrocław. \nScenariusz koncertu oparty jest o treść książki\, wypełniają go autorskie ballady oparte o historię i legendy Wrocławia. Oprócz nich zabrzmią także pieśni ludowe z zasobów słowiańskiej tradycji epickiej. \nPrzez treść książki przewija się czasami bard\, który swoimi pieśniami komentuje bądź dopowiada dalszy ciąg toczących się historii\, przez to nie bardzo można je pominąć. To niejako sam autor\, który wyszedłszy z książki może nas zaprosić na spacer po Miliczu lub Wrocławiu z nim jako przewodnikiem ubranym w historyczny strój\, bądź na koncert autorskich ballad wykonywanych z lirą korbową. \nZagra Kapela Ranoszków\, czyli Anna i Włodzimierz Ranoszek\, z\ntowarzyszeniem Tymoteusza Słowińskiego \nAnna Ranoszek – gra na bębnie\, sopiłce i śpiewa\, grywała w zespołach Rivendel\, Powiem ci w poniedziałek\, Dom o Zielonych Progach\, zajmuje się tańcem i muzyką tradycyjną. \nWłodzimierz Ranoszek – lirnik\, przewodnik i wykładowca uczelni wrocławskich\, autor książek\, przewodników i ballad które wykonuje towarzyszeniem liry korbowej. \nTymoteusz Słowiński – pasjonat pieśni tradycyjnej\, animator wrocławskiego środowiska kultury tradycyjnej Chatka Tańca\, skrzypek\, twórca grupy Wędrowne Dziadostwo Wrocławia. \nSpotkanie w ramach cyklu Piątki z kulturą tradycyjną \nZapraszamy do lektury\nWłodzimierz Ranoszek. Baśniowy Wrocław. Studio Wydawnicze PLAN Wrocław 2017
URL:https://chatkatanca.pl/event/basniowy-wroclaw-ballady-i-legendy-dawnych-wiekow/
LOCATION:Klub Pod Kolumnami\, pl. Św. Macieja \, Wrocław\, Dolnośląskie\, 50-244\, Polska
CATEGORIES:Spotkania Piątkowe
END:VEVENT
END:VCALENDAR